BEGIN:VCALENDAR
VERSION:2.0
PRODID:DPCALENDAR
CALSCALE:GREGORIAN
BEGIN:VTIMEZONE
TZID:UTC
X-MICROSOFT-CDO-TZID:0
END:VTIMEZONE
X-WR-TIMEZONE:UTC
BEGIN:VEVENT
DTSTART;TZID=UTC:20160209T163000
DTEND;TZID=UTC:20160209T180000
RRULE:FREQ=MONTHLY;BYDAY=5TU;INTERVAL=1;COUNT=1;UNTIL=20160830T235900Z
UID:E903FDB1-8BEE-4DB0-8EC4-E8578959F061
SUMMARY:Group Course Elementary Start
DTSTAMP:20160514T173510Z
DESCRIPTION:
X-ALT-DESC;FMTTYPE=text/html:
LAST-MODIFIED:20160514T174446Z
X-ACCESS:1
X-HITS:8
X-URL:
X-COLOR:3366CC
END:VEVENT
BEGIN:VEVENT
DTSTART;TZID=UTC:20160428T000000
DTEND;TZID=UTC:20160428T010000
UID:170C92F0-92A7-4A8A-9D3F-B79EDF4B7DCB
SUMMARY:kurz elementary
DTSTAMP:20160418T215137Z
DESCRIPTION:
X-ALT-DESC;FMTTYPE=text/html:
LAST-MODIFIED:20160519T165434Z
X-ACCESS:1
X-HITS:29
X-URL:
X-COLOR:3366CC
END:VEVENT
BEGIN:VEVENT
DTSTART;TZID=UTC:20160525T181500
DTEND;TZID=UTC:20160525T194500
RRULE:FREQ=WEEKLY;BYDAY=WE;INTERVAL=1;UNTIL=20160719T235900Z
UID:DA4A9C04-9A33-45CF-947C-A081B24322FE
SUMMARY:kurz elementary
DTSTAMP:20160519T173631Z
DESCRIPTION:
X-ALT-DESC;FMTTYPE=text/html:
LAST-MODIFIED:20160519T173708Z
X-ACCESS:1
X-HITS:4
X-URL:
X-COLOR:3366CC
END:VEVENT
END:VCALENDAR